BEGIN:VCALENDAR
VERSION:2.0
PRODID:-//eventon.com NONSGML v1.0//EN
CALSCALE:GREGORIAN
METHOD:PUBLISH
BEGIN:VEVENT
UID:69e73d465b0e5
DTSTAMP:20260421T090302Z
DTSTART:20240430T060000Z
DTEND:20240430T200000Z
LOCATION:
SUMMARY:License Plate Art Contest
DESCRIPTION:Calling all artists of St. Croix! Get ready to showcase your cr
 eativity and celebrate 35 years of Our Town Frederiksted\,  Inc. in a uniqu
 e way! Join us for our first-ever Frederiksted License Plate Art Contest. T
 his exciting opportunity invites budding artists young and old from across 
 the island to design[..]\nhttps://ourtownfrederiksted.org/events/license-pl
 ate-art-contest/
URL:https://ourtownfrederiksted.org/events/license-plate-art-contest/
END:VEVENT
END:VCALENDAR